OziExplorer Map Data File Version 2.0
Tena250.jpg
D:\Мои документы\GPS\Maps\TENA250.jpg
1 TIFF scale factor
Prov So Amrican 1956
Reserved 1
Reserved 2
Magnetic Variation,,,E
Map Projection,Latitude/Longitude
Point01,xy, 1407, 1397,in, deg, 0, 15,S, 77, 45,W, grid, , , ,N
Point02,xy, 4033, 4009,in, deg, 0, 45,S, 77, 15,W, grid, , , ,N
Point03,xy, , ,in, deg, , ,N, , ,W, grid, , , ,N
Point04,xy, , ,in, deg, , ,N, , ,W, grid, , , ,N
Point05,xy, , ,in, deg, , ,N, , ,W, grid, , , ,N
Point06,xy, , ,in, deg, , ,N, , ,W, grid, , , ,N
Point07,xy, , ,in, deg, , ,N, , ,W, grid, , , ,N
Point08,xy, , ,in, deg, , ,N, , ,W, grid, , , ,N
Point09,xy, , ,in, deg, , ,N, , ,W, grid, , , ,N
Point10,xy, , ,in, deg, , ,, , ,, grid, , , ,
Point11,xy, , ,in, deg, , ,, , ,, grid, , , ,
Point12,xy, , ,in, deg, , ,, , ,, grid, , , ,
Point13,xy, , ,in, deg, , ,, , ,, grid, , , ,
Point14,xy, , ,in, deg, , ,, , ,, grid, , , ,
Point15,xy, , ,in, deg, , ,, , ,, grid, , , ,
Point16,xy, , ,in, deg, , ,, , ,, grid, , , ,
Point17,xy, , ,in, deg, , ,, , ,, grid, , , ,
Point18,xy, , ,in, deg, , ,, , ,, grid, , , ,
Point19,xy, , ,in, deg, , ,, , ,, grid, , , ,
Point20,xy, , ,in, deg, , ,, , ,, grid, , , ,
Point21,xy, , ,in, deg, , ,, , ,, grid, , , ,
Point22,xy, , ,in, deg, , ,, , ,, grid, , , ,
Point23,xy, , ,in, deg, , ,, , ,, grid, , , ,
Point24,xy, , ,in, deg, , ,, , ,, grid, , , ,
Point25,xy, , ,in, deg, , ,, , ,, grid, , , ,
Point26,xy, , ,in, deg, , ,, , ,, grid, , , ,
Point27,xy, , ,in, deg, , ,, , ,, grid, , , ,
Point28,xy, , ,in, deg, , ,, , ,, grid, , , ,
Point29,xy, , ,in, deg, , ,, , ,, grid, , , ,
Point30,xy, , ,in, deg, , ,, , ,, grid, , , ,
Projection Setup,,,,,,,
Map Feature = MF ; Map Comment = MC These follow if they exist
Track File = TF These follow if they exist Moving Map Stuff = MM? These follow if they exist
MM0,Yes MM1A,0,0,5438,0,0,5408,5438,5408 MM1C, -78.017898, 0.017420, -76.982483, 0.017420, -78.017898, -1.017802, -76.982483, -1.017802
MM1B,21.212047 MM2,0.01741960183767,-0.00019142419602,-78.01789794364052,0.00019040365575
