OziExplorer Map Data File Version 2.2
São Carlos - SP
Sao_Carlos-SP.ozf2
1 ,Map Code,
Corrego Alegre,WGS 84, 0.0000, 0.0000,WGS 84
Reserved 1
Reserved 2
Magnetic Variation,,,E
Map Projection,(UTM) Universal Transverse Mercator,PolyCal,No,AutoCalOnly,No,BSBUseWPX,No
Point01,xy, 247, 191,in, deg, , ,S, , ,W, grid, 23, 196000, 7570000,S
Point02,xy, 5247, 7691,in, deg, , ,S, , ,W, grid, 23, 206000, 7555000,S
Point03,xy, , ,in, deg, , ,S, , ,W, grid, , , ,S
Point04,xy, , ,in, deg, , ,S, , ,W, grid, , , ,S
Point05,xy, , ,in, deg, , ,S, , ,W, grid, , , ,S
Point06,xy, , ,in, deg, , ,S, , ,W, grid, , , ,S
Point07,xy, , ,in, deg, , ,S, , ,W, grid, , , ,S
Point08,xy, , ,in, deg, , ,S, , ,W, grid, , , ,S
Point09,xy, , ,in, deg, , ,S, , ,W, grid, , , ,S
Point10,xy, , ,in, deg, , ,N, , ,W, grid, , , ,N
Point11,xy, , ,in, deg, , ,N, , ,W, grid, , , ,N
Point12,xy, , ,in, deg, , ,N, , ,W, grid, , , ,N
Point13,xy, , ,in, deg, , ,N, , ,W, grid, , , ,N
Point14,xy, , ,in, deg, , ,N, , ,W, grid, , , ,N
Point15,xy, , ,in, deg, , ,N, , ,W, grid, , , ,N
Point16,xy, , ,in, deg, , ,N, , ,W, grid, , , ,N
Point17,xy, , ,in, deg, , ,N, , ,W, grid, , , ,N
Point18,xy, , ,in, deg, , ,N, , ,W, grid, , , ,N
Point19,xy, , ,in, deg, , ,N, , ,W, grid, , , ,N
Point20,xy, , ,in, deg, , ,N, , ,W, grid, , , ,N
Point21,xy, , ,in, deg, , ,N, , ,W, grid, , , ,N
Point22,xy, , ,in, deg, , ,N, , ,W, grid, , , ,N
Point23,xy, , ,in, deg, , ,N, , ,W, grid, , , ,N
Point24,xy, , ,in, deg, , ,N, , ,W, grid, , , ,N
Point25,xy, , ,in, deg, , ,N, , ,W, grid, , , ,N
Point26,xy, , ,in, deg, , ,N, , ,W, grid, , , ,N
Point27,xy, , ,in, deg, , ,N, , ,W, grid, , , ,N
Point28,xy, , ,in, deg, , ,N, , ,W, grid, , , ,N
Point29,xy, , ,in, deg, , ,N, , ,W, grid, , , ,N
Point30,xy, , ,in, deg, , ,N, , ,W, grid, , , ,N
Projection Setup,,,,,,,,,,
Map Feature = MF ; Map Comment = MC These follow if they exist
Track File = TF These follow if they exist
Moving Map Parameters = MM? These follow if they exist
MM0,Yes
MMPNUM,4
MMPXY,1,0,0
MMPXY,2,5500,0
MMPXY,3,5500,8500
MMPXY,4,0,8500
MMPLL,1, -47.947706, -21.944268
MMPLL,2, -47.841321, -21.946143
MMPLL,3, -47.844384, -22.099534
MMPLL,4, -47.950884, -22.097645
MM1B,2.000000
MOP,Map Open Position,0,0
IWH,Map Image Width/Height,5500,8500
