OziExplorer Map Data File Version 2.2
DER SP 2004
DER-SP_2004.ozf2
1 ,Map Code,
WGS 84,WGS 84, 0.0000, 0.0000,WGS 84
Reserved 1
Reserved 2
Magnetic Variation,,,E
Map Projection,(UTM) Universal Transverse Mercator,PolyCal,Yes,AutoCalOnly,No,BSBUseWPX,No
Point01,xy, 1503, 338,in, deg, 20, 0.0000,S, 51, 0.0000,W, grid, , , ,S
Point02,xy, 2121, 351,in, deg, 20, 0.0000,S, 50, 0.0000,W, grid, , , ,S
Point03,xy, 2739, 368,in, deg, 20, 0.0000,S, 49, 0.0000,W, grid, , , ,S
Point04,xy, 3357, 388,in, deg, 20, 0.0000,S, 48, 0.0000,W, grid, , , ,S
Point05,xy, 877, 983,in, deg, 21, 0.0000,S, 52, 0.0000,W, grid, , , ,S
Point06,xy, 1491, 993,in, deg, 21, 0.0000,S, 51, 0.0000,W, grid, , , ,S
Point07,xy, 2105, 1006,in, deg, 21, 0.0000,S, 50, 0.0000,W, grid, , , ,S
Point08,xy, 2719, 1023,in, deg, 21, 0.0000,S, 49, 0.0000,W, grid, , , ,S
Point09,xy, 3332, 1044,in, deg, 21, 0.0000,S, 48, 0.0000,W, grid, , , ,S
Point10,xy, 3946, 1069,in, deg, 21, 0.0000,S, 47, 0.0000,W, grid, , , ,S
Point11,xy, 869, 1637,in, deg, 22, 0.0000,S, 52, 0.0000,W, grid, , , ,S
Point12,xy, 1479, 1647,in, deg, 22, 0.0000,S, 51, 0.0000,W, grid, , , ,S
Point13,xy, 2088, 1661,in, deg, 22, 0.0000,S, 50, 0.0000,W, grid, , , ,S
Point14,xy, 2698, 1679,in, deg, 22, 0.0000,S, 49, 0.0000,W, grid, , , ,S
Point15,xy, 3307, 1701,in, deg, 22, 0.0000,S, 48, 0.0000,W, grid, , , ,S
Point16,xy, 3916, 1727,in, deg, 22, 0.0000,S, 47, 0.0000,W, grid, , , ,S
Point17,xy, 4526, 1757,in, deg, 22, 0.0000,S, 46, 0.0000,W, grid, , , ,S
Point18,xy, 255, 2285,in, deg, 23, 0.0000,S, 53, 0.0000,W, grid, , , ,S
Point19,xy, 1465, 2301,in, deg, 23, 0.0000,S, 51, 0.0000,W, grid, , , ,S
Point20,xy, 2071, 2316,in, deg, 23, 0.0000,S, 50, 0.0000,W, grid, , , ,S
Point21,xy, 2676, 2335,in, deg, 23, 0.0000,S, 49, 0.0000,W, grid, , , ,S
Point22,xy, 3281, 2357,in, deg, 23, 0.0000,S, 48, 0.0000,W, grid, , , ,S
Point23,xy, 3886, 2385,in, deg, 23, 0.0000,S, 47, 0.0000,W, grid, , , ,S
Point24,xy, 4490, 2415,in, deg, 23, 0.0000,S, 46, 0.0000,W, grid, , , ,S
Point25,xy, 5095, 2450,in, deg, 23, 0.0000,S, 45, 0.0000,W, grid, , , ,S
Point26,xy, 2653, 2990,in, deg, 24, 0.0000,S, 49, 0.0000,W, grid, , , ,S
Point27,xy, 3253, 3014,in, deg, 24, 0.0000,S, 48, 0.0000,W, grid, , , ,S
Point28,xy, 3854, 3042,in, deg, 24, 0.0000,S, 47, 0.0000,W, grid, , , ,S
Point29,xy, 4454, 3074,in, deg, 24, 0.0000,S, 46, 0.0000,W, grid, , , ,S
Point30,xy, 3225, 3670,in, deg, 25, 0.0000,S, 48, 0.0000,W, grid, , , ,S
Projection Setup,,,,,,,,,,
Map Feature = MF ; Map Comment = MC These follow if they exist
Track File = TF These follow if they exist
Moving Map Parameters = MM? These follow if they exist
MM0,Yes
MMPNUM,4
MMPXY,1,0,0
MMPXY,2,5787,0
MMPXY,3,5787,4016
MMPXY,4,0,4016
MMPLL,1, -53.431046, -19.507209
MMPLL,2, -44.117231, -19.242104
MMPLL,3, -43.673534, -25.286317
MMPLL,4, -53.411257, -25.650469
MM1B,169.428051
MOP,Map Open Position,0,0
IWH,Map Image Width/Height,5787,4016
